BEGIN:VCALENDAR
VERSION:2.0
PRODID:icalendar-ruby
CALSCALE:GREGORIAN
METHOD:PUBLISH
BEGIN:VEVENT
DTSTAMP:20260423T065825Z
UID:22-784594@monettefbc.org
DTSTART:20260823T220000Z
DTEND:20260823T230000Z
CLASS:PUBLIC
CREATED:20260422T215933
DESCRIPTION:
LAST-MODIFIED:20260422T215933
LOCATION:Assembly of God Sanctuary
SUMMARY:Sunday Night Adult Bible Study
URL;VALUE=URI:https://monettefbc.org/events/sunday-night-adult-bible-study/
 2026-08-23
ATTACH;FILENAME=Web-25.jpg;FMTTYPE=image/jpeg:https://dq5pwpg1q8ru0.cloudfr
 ont.net/2025/04/16/17/10/29/fe410520-a0be-40e9-9537-56aa4c46f9ed/Web-25.jp
 g
END:VEVENT
END:VCALENDAR
