BEGIN:VCALENDAR
VERSION:2.0
PRODID:icalendar-ruby
CALSCALE:GREGORIAN
METHOD:PUBLISH
BEGIN:VEVENT
DTSTAMP:20260421T214332Z
UID:24-778774@monettefbc.org
DTSTART:20260909T233000Z
DTEND:20260910T003000Z
CLASS:PUBLIC
CREATED:20260421T150437
DESCRIPTION:
LAST-MODIFIED:20260421T150437
LOCATION:Methodist Church Sanctuary
SUMMARY:NXT GEN YTH Wednesday Nights
URL;VALUE=URI:https://monettefbc.org/events/nxt-gen-yth-wednesday-nights/20
 26-09-09
ATTACH;FILENAME=NXTGEN.jpg;FMTTYPE=image/jpeg:https://dq5pwpg1q8ru0.cloudfr
 ont.net/2025/06/18/22/22/49/c1bc613f-30ab-4092-acd1-8dcd263ec386/NXTGEN.jp
 g
END:VEVENT
END:VCALENDAR
