BEGIN:VCALENDAR
VERSION:2.0
PRODID:icalendar-ruby
CALSCALE:GREGORIAN
METHOD:PUBLISH
BEGIN:VEVENT
DTSTAMP:20260421T050845Z
UID:24-775812@monettefbc.org
DTSTART:20260701T233000Z
DTEND:20260702T003000Z
CLASS:PUBLIC
CREATED:20260420T200615
DESCRIPTION:
LAST-MODIFIED:20260420T200615
LOCATION:Methodist Church Sanctuary
SUMMARY:NXT GEN YTH Wednesday Nights
URL;VALUE=URI:https://monettefbc.org/events/nxt-gen-yth-wednesday-nights/20
 26-07-01
ATTACH;FILENAME=NXTGEN.jpg;FMTTYPE=image/jpeg:https://dq5pwpg1q8ru0.cloudfr
 ont.net/2025/06/18/22/22/49/c1bc613f-30ab-4092-acd1-8dcd263ec386/NXTGEN.jp
 g
END:VEVENT
END:VCALENDAR
