BEGIN:VCALENDAR
VERSION:2.0
PRODID:icalendar-ruby
CALSCALE:GREGORIAN
METHOD:PUBLISH
BEGIN:VEVENT
DTSTAMP:20260419T203535Z
UID:20-768922@monettefbc.org
DTSTART:20260510T214500Z
DTEND:20260510T230000Z
CLASS:PUBLIC
CREATED:20260419T153430
DESCRIPTION:
LAST-MODIFIED:20260419T153430
LOCATION:Methodist Church Sanctuary
SUMMARY:NXT GEN YTH Sunday Nights
URL;VALUE=URI:https://monettefbc.org/events/nxt-gen-yth-sunday-nights/2026-
 05-10
ATTACH;FILENAME=NXTGEN.jpg;FMTTYPE=image/jpeg:https://dq5pwpg1q8ru0.cloudfr
 ont.net/2025/04/16/17/05/55/b652acff-c760-4955-8063-0eff02e95a62/NXTGEN.jp
 g
END:VEVENT
END:VCALENDAR
