BEGIN:VCALENDAR
VERSION:2.0
PRODID:icalendar-ruby
CALSCALE:GREGORIAN
METHOD:PUBLISH
BEGIN:VEVENT
DTSTAMP:20260419T221826Z
UID:27-769327@monettefbc.org
DTSTART:20260729T233000Z
DTEND:20260730T003000Z
CLASS:PUBLIC
CREATED:20260419T153431
DESCRIPTION:
LAST-MODIFIED:20260419T153431
LOCATION:Methodist Church Fellowship Hall
SUMMARY:Life Kids Wednesday Nights
URL;VALUE=URI:https://monettefbc.org/events/life-kids-wednesday-nights/2026
 -07-29
ATTACH;FILENAME=12f388f5-c3a0-4963-9bbc-44b684a93b6e.jpg;FMTTYPE=image/jpeg
 :https://dq5pwpg1q8ru0.cloudfront.net/2025/06/18/22/26/08/b5bc6605-91ca-45
 8b-a758-54622f20783f/12f388f5-c3a0-4963-9bbc-44b684a93b6e.jpg
END:VEVENT
END:VCALENDAR
