BEGIN:VCALENDAR
VERSION:2.0
PRODID:icalendar-ruby
CALSCALE:GREGORIAN
METHOD:PUBLISH
BEGIN:VEVENT
DTSTAMP:20260420T192326Z
UID:21-773429@monettefbc.org
DTSTART:20260517T214500Z
DTEND:20260517T234500Z
CLASS:PUBLIC
CREATED:20260420T122045
DESCRIPTION:
LAST-MODIFIED:20260420T122045
LOCATION:Methodist Church Fellowship Hall
SUMMARY:Life Kids Sunday Nights
URL;VALUE=URI:https://monettefbc.org/events/life-kids-sunday-nights/2026-05
 -17
ATTACH;FILENAME=12f388f5-c3a0-4963-9bbc-44b684a93b6e.jpg;FMTTYPE=image/jpeg
 :https://dq5pwpg1q8ru0.cloudfront.net/2025/04/16/17/07/49/131a9e29-6e9b-4a
 45-b062-cef98b0d0c9d/12f388f5-c3a0-4963-9bbc-44b684a93b6e.jpg
END:VEVENT
END:VCALENDAR
